BEGIN:VCALENDAR
VERSION:2.0
PRODID:-//wp-events-plugin.com//7.2.3.1//EN
TZID:Europe/Zurich
X-WR-TIMEZONE:Europe/Zurich
BEGIN:VEVENT
UID:55@juga.saanen.ch
DTSTART;TZID=Europe/Zurich:20261023T000000
DTEND;TZID=Europe/Zurich:20261024T000000
DTSTAMP:20260409T150626Z
URL:https://juga.saanen.ch/events/zyklusshow-2026-in-zweisimmmen/
SUMMARY:Zyklusshow 2026 in Zweisimmen
DESCRIPTION:Elternabend: 23.10.2026\n\nZyklusshow: 24.10.2026\n\nAnmeldunge
 n an: Emily Ross via WhatsApp oder SMS inkl. Angabe der Rechnungsadresse: 
 079 904 97 93. (Emily Ross übernimmt ab April bis Dezember 2026 die StV f
 ür Chantal Kaufmann)\n\nAufklärungsworkshop "Zyklusshow" für Mädchen\n
 \nBald ist es soweit! Der nächste MFM® Workshop "die Zyklusshow" findet 
 wieder in Zweisimmen statt. MFM ist die Abkürzung für "Mädchen\, Frauen
  und Menstruation". Dabei handelt es sich um ein sexualpädagogisches Prä
 ventionsprojekt\, welches den Aufklärungsunterricht der Schule ideal erg
 änzt. In etlichen Schweizer Volksschulen ist der Workshop schon fester Be
 standteil des Unterrichtes. Der Workshop soll Mädchen zwischen 10 und 12 
 Jahren (5. &amp\; 6. Klasse) sowie ihre Eltern in die Pubertät begleiten 
 und über wichtige Themen der Pubertät aufklären.\n\nNach der Gründerin
  Dr. med. Elisabeth Raith-Paul ist es für Jugendliche besonders wichtig\,
  den eigenen Körper und die Veränderungen der Pubertät verstehen zu ler
 nen\, um ein positives Körpergefühl zu entwickeln. Der Ganztagesworkshop
  hat den Leitsatz: „Nur was ich kenne\, kann ich schützen“. Im Worksh
 op erleben die Mädchen anschaulich in einer Art Theateraufführung mit Mu
 sik und Anschauungsmaterial\, was im Körper passiert\, wenn sie erwachsen
  werden. Die Mädchen lernen\, warum Frauen einen Zyklus und eine Menstrua
 tion haben und wie ein Kind entsteht. Sie schlüpfen in die Rollen von Hor
 monen\, um zu sehen\, was diese im Körper bewirken. Das ausführliche Bes
 prechen der Menstruation bereitet die Mädchen auf ihre monatliche Blutung
  vor und schenkt ihnen Vertrauen und Selbstbewusstsein.\n\nAm Tag vor dem 
 Workshop gibt es zusätzlich für die Eltern einen Vortrag\, welcher auch 
 sie über die Pubertät ihrer Kinder informiert und vorbereitet.\n\nStattf
 inden wird der Vortrag am 23. Oktober im Schulhaus Zweisimmen und der Work
 shop für die Mädchen am 24. Oktober im Gemeindesaal Zweisimmen. Der Work
 shop wird durch die Kinder- und Jugendfachstelle Obersimmental organisiert
  und von der langjährigen MFM- Kursleiterin und Pädagogin Mirjam Niederh
 auser geleitet. Alles zur Anmeldung finden Sie in dieser Ausgabe unter den
  Inseraten.\n\n&nbsp\;
ATTACH;FMTTYPE=image/jpeg:https://juga.saanen.ch/wp-content/uploads/2025/0
 5/zyklus_Bild-der-Wenseite.jpg
CATEGORIES:Sexualprävention
END:VEVENT
BEGIN:VTIMEZONE
TZID:Europe/Zurich
X-LIC-LOCATION:Europe/Zurich
BEGIN:DAYLIGHT
DTSTART:20260329T030000
TZOFFSETFROM:+0100
TZOFFSETTO:+0200
TZNAME:CEST
END:DAYLIGHT
END:VTIMEZONE
END:VCALENDAR