BEGIN:VCALENDAR
VERSION:2.0
PRODID:-//wp-events-plugin.com//7.2.3.1//EN
TZID:Europe/Zurich
X-WR-TIMEZONE:Europe/Zurich
BEGIN:VEVENT
UID:19@juga.saanen.ch
DTSTART;TZID=Europe/Zurich;VALUE=DATE:20260606
DTEND;TZID=Europe/Zurich;VALUE=DATE:20260607
DTSTAMP:20260311T144920Z
URL:https://juga.saanen.ch/events/x-day/
SUMMARY:X-Day
DESCRIPTION:Achtung: Das Durchführungsdatum wurde noch nicht entschieden\n
 Ein Tag voller Erlebnisse. Sei gespannt auf das Programm 2026. Zeig dein K
 önnen bei all den verschiedenen Wettkämpfen\, geniesse die Festwirtschaf
 t und die Spiele. Auch das Abendprogramm ist nicht zu verpassen.\n\nInform
 ationen über den X-Day 2026 folgen...
ATTACH;FMTTYPE=image/jpeg:https://juga.saanen.ch/wp-content/uploads/2024/0
 7/JFZ-Oeyetli-Pumptrack-II.png
CATEGORIES:X-Day
END:VEVENT
BEGIN:VTIMEZONE
TZID:Europe/Zurich
X-LIC-LOCATION:Europe/Zurich
BEGIN:DAYLIGHT
DTSTART:20260329T030000
TZOFFSETFROM:+0100
TZOFFSETTO:+0200
TZNAME:CEST
END:DAYLIGHT
END:VTIMEZONE
END:VCALENDAR