BEGIN:VCALENDAR
VERSION:2.0
PRODID:-//wp-events-plugin.com//7.2.3.1//EN
TZID:Europe/Zurich
X-WR-TIMEZONE:Europe/Zurich
BEGIN:VEVENT
UID:21@juga.saanen.ch
DTSTART;TZID=Europe/Zurich:20260429T100000
DTEND;TZID=Europe/Zurich:20260501T160000
DTSTAMP:20260304T150609Z
URL:https://juga.saanen.ch/events/theaterworkshop/
SUMMARY:Theaterworkshop
DESCRIPTION:Lust auf ein unvergessliches Theaterabenteuer?\nIm Jahr 2026 bi
 eten wir erneut ein aufregendes Theaterprojekt für Kinder im Alter von 7 
 bis 12 Jahren an - ein kreativer Raum\, in dem ihr euch austoben und entde
 cken könnt! Unter der Leitung des renommierten Schauspielers und Theaterp
 ädagogen Adrian Willi\, der seit über 20 Jahren die Theaterwelt kennt\, 
 werdet ihr auf eine faszinierende Reise in die Welt der Bühne mitgenommen
 .\nAdrian Willi ist nicht nur Schauspiellehrer an der Studio Bühne Bern\,
  sondern hat auch unzählige Projekte mit jungen Talenten begleitet und is
 t ein wahrer Experte darin\, Kinder für das Theater zu begeistern. Hier g
 eht es nicht nur um Schauspiel - es geht darum\, gemeinsam kreativ zu sein
 \, Neues zu entdecken und vor allem: viel Spass zu haben.\nIhr werdet nich
 t nur die Kunst des Theaters kennenlernen\, sondern auch erleben\, wie wic
 htig Zusammenhalt und Kommunikation auf der Bühne sind. Im Mittelpunkt st
 ehen Achtsamkeit und Vertrauen\, wenn ihr zusammen als Team arbeitet\, euc
 h gegenseitig unterstützt und dabei Schritt für Schritt die spannenden W
 elt des Theaters erobert.\n\nDas Theaterprojekt ist ausserdem die perfekte
  Gelegenheit\, neue Freundschaften zu schliessen und den Spass am Schauspi
 elern zu entdecken.\nWann? Mittwoch und Donnerstag von 10.00 Uhr -16.00 Uh
 r\, Freitag von 11.00 Uhr -19.00 Uhr inkl. Werkshow. (Die Zeit vom Freitag
  kann sich noch ändern)\nWo? Im Freizeit- und Jugendzentrum Oeyetli in Sa
 anen.\nAlter? Ab 7 Jahren\n\nKosten? 60.- inkl. Mittagessen/z Vieri\nKommt
  und macht mit - wir freuen uns über zahlreiche Anmeldungen!\n[contact-fo
 rm-7 id="67ce2fe" title="Theaterworkshop"]
ATTACH;FMTTYPE=image/jpeg:https://juga.saanen.ch/wp-content/uploads/2024/0
 7/young-kids-rehearsing-play-perform-theatre-stage-scaled.jpg
END:VEVENT
BEGIN:VTIMEZONE
TZID:Europe/Zurich
X-LIC-LOCATION:Europe/Zurich
BEGIN:DAYLIGHT
DTSTART:20260329T030000
TZOFFSETFROM:+0100
TZOFFSETTO:+0200
TZNAME:CEST
END:DAYLIGHT
END:VTIMEZONE
END:VCALENDAR