BEGIN:VCALENDAR
VERSION:2.0
PRODID:-//wp-events-plugin.com//7.2.3.1//EN
TZID:Europe/Zurich
X-WR-TIMEZONE:Europe/Zurich
BEGIN:VEVENT
UID:54@juga.saanen.ch
DTSTART;TZID=Europe/Zurich;VALUE=DATE:20260406
DTEND;TZID=Europe/Zurich;VALUE=DATE:20261031
DTSTAMP:20260311T144146Z
URL:https://juga.saanen.ch/events/soccerena/
SUMMARY:Soccarena
DESCRIPTION:\n\n\n\n\nDeine Soccer Arena: Fußballspass auf deinem Pausenpl
 atz!\nWir bauen abwechslungsweise in den Schulen unsere mobile Soccer Aren
 a auf!\n\n\n\n\n\n\n\n\n\n\n\n\n\nDas Mini-Fussballfeld bietet den perfekt
 en Rahmen für ein abwechslungsreiches Sport- und Spielvergnügen. Die Kin
 der und Jugendlichen können sich hier austoben\, ihrer Kreativität freie
 n Lauf lassen und im Teamgeist zusammenwachsen. Ob spontanes Fussballspiel
 \, organisiertes Turnier oder kreative Bewegungsangebote – die Möglichk
 eiten sind so vielfältig wie die Ideen der Nutzenden.\n\n\n\n\n\n\n\n\n\n
 \n\n\n\n\n\n\n\nSo fördert die Soccer Arena nicht nur die körperliche Fi
 tness\, sondern stärkt auch wichtige soziale Kompetenzen wie Kommunikatio
 n\, Teamwork und Konfliktlösung.\n\n\n\n\n\n\n\n
ATTACH;FMTTYPE=image/jpeg:https://juga.saanen.ch/wp-content/uploads/2025/1
 2/Administration-Webseite-Bild-Soccerena-2022-18717077-Bearbeiten.jpg
CATEGORIES:X-Day
END:VEVENT
BEGIN:VTIMEZONE
TZID:Europe/Zurich
X-LIC-LOCATION:Europe/Zurich
BEGIN:DAYLIGHT
DTSTART:20260329T030000
TZOFFSETFROM:+0100
TZOFFSETTO:+0200
TZNAME:CEST
END:DAYLIGHT
BEGIN:STANDARD
DTSTART:20261025T020000
TZOFFSETFROM:+0200
TZOFFSETTO:+0100
TZNAME:CET
END:STANDARD
END:VTIMEZONE
END:VCALENDAR