BEGIN:VCALENDAR
VERSION:2.0
PRODID:-//wp-events-plugin.com//7.2.3.1//EN
TZID:Europe/Zurich
X-WR-TIMEZONE:Europe/Zurich
BEGIN:VEVENT
UID:56@juga.saanen.ch
DTSTART;TZID=Europe/Zurich:20260301T153000
DTEND;TZID=Europe/Zurich:20260630T173000
DTSTAMP:20260311T143742Z
URL:https://juga.saanen.ch/events/maedchentreff-5/
SUMMARY:Mädchentreff
DESCRIPTION:
ATTACH;FMTTYPE=image/jpeg:https://juga.saanen.ch/wp-content/uploads/2026/0
 1/Theaterprojekt-Plakat-2-scaled.png
CATEGORIES:Mädchentreff
END:VEVENT
BEGIN:VTIMEZONE
TZID:Europe/Zurich
X-LIC-LOCATION:Europe/Zurich
BEGIN:STANDARD
DTSTART:20251026T020000
TZOFFSETFROM:+0200
TZOFFSETTO:+0100
TZNAME:CET
END:STANDARD
BEGIN:DAYLIGHT
DTSTART:20260329T030000
TZOFFSETFROM:+0100
TZOFFSETTO:+0200
TZNAME:CEST
END:DAYLIGHT
END:VTIMEZONE
END:VCALENDAR