BEGIN:VCALENDAR
VERSION:2.0
PRODID:-//wp-events-plugin.com//7.2.3.1//EN
TZID:Europe/Zurich
X-WR-TIMEZONE:Europe/Zurich
BEGIN:VEVENT
UID:28@juga.saanen.ch
DTSTART;TZID=Europe/Zurich;VALUE=DATE:20260727
DTEND;TZID=Europe/Zurich;VALUE=DATE:20260808
DTSTAMP:20251217T150758Z
URL:https://juga.saanen.ch/events/ferienpass/
SUMMARY:Ferienpass
DESCRIPTION:\n\n&nbsp\;\n\nDer Ferienpass im Saanenland lädt dich auch in 
 diesem Sommer zu zwei aufregenden Wochen voller Spiel\, Spass und Abenteue
 r ein. Organisiert wird der Ferienpass von einer engagierten Gruppe einhei
 mischer Frauen unter der Leitung der JUGA Saanenland. Unterstützt wird da
 s Projekt von den Gemeinden Saanen\, Gsteig und Lauenen\, die das Angebot 
 tatkräftig fördern.\nIn diesem Sommer kannst du dich auf eine Vielzahl a
 n ein- bis zweistündigen Angeboten freuen\, dazu kommen halbtägige Aktiv
 itäten für noch mehr Abwechslung. Neu sind auch berufliche Schnupperange
 bote\, bei denen du in verschiedene Betriebe hineinschnuppern und spannend
 e Einblicke in unterschiedliche Berufe gewinnen kannst.\nVon kreativen Bas
 telstunden\, musikalischen Aktivitäten bis hin zu sportlichen Herausforde
 rungen - die Angebote ermöglichen es dir\, schnell in verschiedene Themen
  einzutauchen und trotzdem den ganzen Sommer zu geniessen.\n\nMehr Einblic
 k in die diesjährigen Angebote und die Möglichkeit zur Anmeldung findest
  du ab dem 20.April 2026 (Wunschphase)\n\n\n
ATTACH;FMTTYPE=image/jpeg:https://juga.saanen.ch/wp-content/uploads/2024/1
 0/Unbenannt-1.png
CATEGORIES:Diverses
END:VEVENT
BEGIN:VTIMEZONE
TZID:Europe/Zurich
X-LIC-LOCATION:Europe/Zurich
BEGIN:DAYLIGHT
DTSTART:20260329T030000
TZOFFSETFROM:+0100
TZOFFSETTO:+0200
TZNAME:CEST
END:DAYLIGHT
END:VTIMEZONE
END:VCALENDAR