BEGIN:VCALENDAR
VERSION:2.0
PRODID:-//wp-events-plugin.com//7.2.3.1//EN
TZID:Europe/Zurich
X-WR-TIMEZONE:Europe/Zurich
BEGIN:VEVENT
UID:57@juga.saanen.ch
DTSTART;TZID=Europe/Zurich:20260731T100000
DTEND;TZID=Europe/Zurich:20260731T120000
DTSTAMP:20260218T095004Z
URL:https://juga.saanen.ch/events/drum-circle/
SUMMARY:Drum Circle
DESCRIPTION:Freitag\, 31.7.2026\n 10.00-12.00 Uhr\nJugendzentrum Oeyetli\, 
 Saanen\n\nDrum Circle!\n\nHier dreht sich alles um das Thema Rhythmus. Sic
 h selbst rhythmisch erfahren und gemeinsam in der Gruppe Beats erarbeiten.
  Egal\, ob Vorerfahrungen vorhanden sind oder ob Neues ausprobiert werden 
 möchte – Hier groovt es! In einem zweistündigen Community Music Worksh
 op werden die Kinder dazu eingeladen\, Musik hautnah und in der Gemeinscha
 ft zu erleben.\n\nKostenlose Anmeldung: bis 2 Tage vorher über menuhin.ch
  &gt\; Discovery\n\nKontakt: discovery@menuhin.ch
ATTACH;FMTTYPE=image/jpeg:https://juga.saanen.ch/wp-content/uploads/2026/0
 2/RFX_8929_Musikspass_Drum-Circle-scaled.jpg
END:VEVENT
BEGIN:VTIMEZONE
TZID:Europe/Zurich
X-LIC-LOCATION:Europe/Zurich
BEGIN:DAYLIGHT
DTSTART:20260329T030000
TZOFFSETFROM:+0100
TZOFFSETTO:+0200
TZNAME:CEST
END:DAYLIGHT
END:VTIMEZONE
END:VCALENDAR